BEGIN:VCALENDAR
VERSION:2.0
PRODID:-//Kunga Yoga - ECPv6.15.3//NONSGML v1.0//EN
CALSCALE:GREGORIAN
METHOD:PUBLISH
X-WR-CALNAME:Kunga Yoga
X-ORIGINAL-URL:https://www.kungayogaschool.com
X-WR-CALDESC:Events for Kunga Yoga
REFRESH-INTERVAL;VALUE=DURATION:PT1H
X-Robots-Tag:noindex
X-PUBLISHED-TTL:PT1H
BEGIN:VTIMEZONE
TZID:UTC
BEGIN:STANDARD
TZOFFSETFROM:+0000
TZOFFSETTO:+0000
TZNAME:UTC
DTSTART:20170101T000000
END:STANDARD
END:VTIMEZONE
BEGIN:VEVENT
DTSTART;VALUE=DATE:20170911
DTEND;VALUE=DATE:20170930
DTSTAMP:20260423T195146
CREATED:20170627T082816Z
LAST-MODIFIED:20170627T082816Z
UID:1273-1505088000-1506729599@www.kungayogaschool.com
SUMMARY:Kunga 3 Week Immersion Yoga Lifestyle + Teacher Training
DESCRIPTION:LEARN. LAUGH. GROW. SERVE.\n\nKunga Yoga 200hr Teacher Training Certification Program provides a foundational teacher training and a yogic lifestyle immersion for students wishing to become teachers\, or those simply wishing to deepen their own practice and learn healthy lifestyle habits. You will learn theory and practice of yoga on the mat and yoga off the mat as a practice of service. We are committed to offering yoga in a way that is accessible to all levels\, non-dogmatic\, non-intimidating\, thorough\, and fun! \n•Develop and deepen your personal practice on and off the mat\n•Gain tools to serve your community\, learning from dedicated yogis with decades of experience\n•Try out a variety of yoga styles in a multidisciplinary training\n•Create enriching personal relationships for your yogic journey to come! \n\n\n\nABOUT THE 200-HOUR KUNGA YOGA TEACHER TRAINING\nThe primary umbrella for Kunga Yoga is Hatha yoga physical practices\, with an emphasis on Vinyasa and specialty classes. Instruction is provided in a “big picture” format of Hatha yoga\, with a “smaller picture” introduction into the practice of athletic classes such as Vinyasa Flow\, Power Flow\, and Detox practices\, as well as meditation senior yoga\, prenatal\, kids\, therapeutic restorative and more. Yogic lifestyle\, professional ethics\, vegan living\, anatomy and physiology\, assisting and pranayama are covered in detail. For more specialized\, in-depth study of these topics\, you may continue your advanced studies with our Kunga Yoga 300 Hour Certification Program. \n\n  \n  \nESTABLISHED CURRICULUM\nWe have consistently evolved\, improved and refined each of our yoga instructor training programs\, with over one thousand participants in our 200 & 300 hour programs since 2003. As a unique\, open- style training program\, we’ve committed our programs to the “Kunga” vision-offering yoga as service to our local and global communities\, learning by teaching and getting our hands dirty! \n\n        \n    \n\n    \n    \n\n    \n        \n            [vc_btn title=”Details + Registration” color=”warning” link=”url:https%3A%2F%2Fwilmingtonyogacenter.com%2Fkunga-yoga-3-week-immersion-september-2017%2F||target:%20_blank|”]
URL:https://www.kungayogaschool.com/event/kunga-3-week-immersion-yoga-lifestyle-teacher-training/
LOCATION:Wilmington Yoga Center\, 5329 Oleander Dr\, STE 200\, Wilmington\, NC\, 28403\, United States
CATEGORIES:Teacher Training
ATTACH;FMTTYPE=image/jpeg:https://www.kungayogaschool.com/wp-content/uploads/2017/06/yltt-6-weekend-facebook-event.jpg
END:VEVENT
BEGIN:VEVENT
DTSTART;VALUE=DATE:20170714
DTEND;VALUE=DATE:20171218
DTSTAMP:20260423T195146
CREATED:20170627T073341Z
LAST-MODIFIED:20170627T074031Z
UID:1249-1499990400-1513555199@www.kungayogaschool.com
SUMMARY:Kunga Yoga Six Weekend Training – Summer 2017
DESCRIPTION:Kunga Yoga 200hr Teacher Training Certification Program provides a foundational teacher training and a yogic lifestyle immersion for students wishing to become teachers\, or those simply wishing to deepen their own practice and learn healthy lifestyle habits. You will learn theory and practice of yoga on the mat and yoga off the mat as a practice of service. We are committed to offering yoga in a way that is accessible to all levels\, non-dogmatic\, non-intimidating\, thorough\, and fun! \n•Develop and deepen your personal practice on and off the mat\n•Gain tools to serve your community\, learning from dedicated yogis with decades of experience\n•Try out a variety of yoga styles in a multidisciplinary training\n•Create enriching personal relationships for your yogic journey to come! \n  \nABOUT THE 200-HOUR KUNGA YOGA TEACHER TRAINING\nThe primary umbrella for Kunga Yoga is Hatha yoga physical practices\, with an emphasis on Vinyasa and specialty classes. Instruction is provided in a “big picture” format of Hatha yoga\, with a “smaller picture” introduction into the practice of athletic classes such as Vinyasa Flow\, Power Flow\, and Detox practices\, as well as meditation senior yoga\, prenatal\, kids\, therapeutic restorative and more. Yogic lifestyle\, professional ethics\, vegan living\, anatomy and physiology\, assisting and pranayama are covered in detail. For more specialized\, in-depth study of these topics\, you may continue your advanced studies with our Kunga Yoga 300 Hour Certification Program. \n  \n  \nESTABLISHED CURRICULUM\nWe have consistently evolved\, improved and refined each of our yoga instructor training programs\, with over one thousand participants in our 200 & 300 hour programs since 2003. As a unique\, open- style training program\, we’ve committed our programs to the “Kunga” vision-offering yoga as service to our local and global communities\, learning by teaching and getting our hands dirty! \n\n[vc_btn title=”Details + Registration” color=”warning” link=”url:https%3A%2F%2Fwilmingtonyogacenter.com%2Fsix-weekend-yoga-teacher-training-summer-2017%2F||target:%20_blank|”]
URL:https://www.kungayogaschool.com/event/kunga-yoga-six-weekend-training-summer-2017/
LOCATION:Wilmington Yoga Center\, 5329 Oleander Dr\, STE 200\, Wilmington\, NC\, 28403\, United States
CATEGORIES:Teacher Training
ATTACH;FMTTYPE=image/jpeg:https://www.kungayogaschool.com/wp-content/uploads/2017/06/yltt-6-weekend-facebook-event.jpg
END:VEVENT
BEGIN:VEVENT
DTSTART;VALUE=DATE:20170710
DTEND;VALUE=DATE:20170729
DTSTAMP:20260423T195146
CREATED:20170415T212450Z
LAST-MODIFIED:20170622T155802Z
UID:563-1499644800-1501286399@www.kungayogaschool.com
SUMMARY:200hr Kunga Yoga Lifestyle & Teacher Training
DESCRIPTION:July 3 Week Immersion\nLifestyle + Teacher Training\nBlacksburg\, VA \nWhile you train and earn your 200hr Kunga Yoga Teacher Training certificate with us you’ll…\n• Develop your personal practice on and off the mat\n• Gain tools to serve your community\n• Find out how to prevent injuries while gaining flexibility and strength\n• Learn from dedicated teachers with decades of experience\n• Experience a variety of yoga methodologies within one training\n• Create enriching personal relationships for your journey to come! \nThe emphasis within our Kunga Yoga school is on very broad Hatha and Vinyasa yoga techniques\, asana\, pranayama\, and philosophy\, rather than one particular theory or methodology. The heart of our program is the teaching of yoga as service\, and promotes openness to all methods of yoga with no one yoga “style” being taught as dominant. We teach a broad range of approaches\, so that all may gain an appreciation of different theories/models. \nFor More Details and to apply for the program\, click on the button below \n\n\n	    Details + Registration
URL:https://www.kungayogaschool.com/event/200hr-kunga-yoga-lifestyle-teacher-training/
LOCATION:In Balance Yoga\, 1512 N. Main St.\, Blacksburg\, VA\, 24060\, United States
CATEGORIES:Teacher Training
ATTACH;FMTTYPE=image/jpeg:https://www.kungayogaschool.com/wp-content/uploads/2017/04/KC-Assist.jpg
END:VEVENT
END:VCALENDAR