BEGIN:VCALENDAR
VERSION:2.0
PRODID:-//Kunga Yoga - ECPv6.15.3//NONSGML v1.0//EN
CALSCALE:GREGORIAN
METHOD:PUBLISH
X-ORIGINAL-URL:https://www.kungayogaschool.com
X-WR-CALDESC:Events for Kunga Yoga
REFRESH-INTERVAL;VALUE=DURATION:PT1H
X-Robots-Tag:noindex
X-PUBLISHED-TTL:PT1H
BEGIN:VTIMEZONE
TZID:UTC
BEGIN:STANDARD
TZOFFSETFROM:+0000
TZOFFSETTO:+0000
TZNAME:UTC
DTSTART:20180101T000000
END:STANDARD
END:VTIMEZONE
BEGIN:VEVENT
DTSTART;VALUE=DATE:20200206
DTEND;VALUE=DATE:20200217
DTSTAMP:20260423T183406
CREATED:20190502T150148Z
LAST-MODIFIED:20191125T212519Z
UID:3509-1580947200-1581897599@www.kungayogaschool.com
SUMMARY:Kunga Journeys India! Yoga & Service Retreat - Kerala\, India
DESCRIPTION:Kunga Journeys India! Yoga & Service Retreat with Noelle Whittington\, ERYT500 + Veronica Robertson\, ERYT200/RYT500. Kunga Journeys Yoga Retreats are fundraising trips that are part service\, part yoga + part tourism. We will be spending our mornings practicing yoga overlooking the Kerala backwaters\, our afternoons at the Home of Hope Orphanage + exploring the tropical region of Kerala\, on the south coast of India! This yoga retreat is open to ALL ages ALL levels + children 5 years and up! Yoga Teachers receive CEU credit hours. \n\n        \n    \n\n    \n    \n\n    \n        \n            [vc_btn title=”Details + Registration” color=”warning” link=”url:http%3A%2F%2Fwilmingtonyogacenter.com%2Fkunga-journeys-india-yoga-retreat%2F||target:%20_blank|”]
URL:https://www.kungayogaschool.com/event/kunga-journeys-india-yoga-service-retreat-kerala-india/
LOCATION:Wilmington Yoga Center\, 5329 Oleander Dr\, STE 200\, Wilmington\, NC\, 28403\, United States
CATEGORIES:Other,Retreat
END:VEVENT
BEGIN:VEVENT
DTSTART;VALUE=DATE:20181109
DTEND;VALUE=DATE:20181112
DTSTAMP:20260423T183406
CREATED:20181103T134317Z
LAST-MODIFIED:20181103T134317Z
UID:2408-1541721600-1541980799@www.kungayogaschool.com
SUMMARY:Yoga Fest\, Blacksburg
DESCRIPTION:Free Yoga! \nCome join the fun! 30+ Free yoga classes throughout the weekend. Classes for all level\, vegan food\, class specials\, live DJ & music\, Hip Hop Yoga\, Glow-ga & bonfire! 100& of donations benefit the Homes of Hope Orphanages in India. See the class schedule for more weekend details. \n\nFriday\, 6:00pm-9:00pm\nSaturday\, 9:15am-8:30pm\nSunday\, 8:45am-8:45pm\n\n\n        \n    \n\n    \n    \n\n    \n        \n            [vc_btn title=”Details + Registration” color=”warning” link=”url:https%3A%2F%2Fwww.inbalanceyogastudio.com%2F|||”]
URL:https://www.kungayogaschool.com/event/yoga-fest-blacksburg/
LOCATION:In Balance Yoga\, 1512 N. Main St.\, Blacksburg\, VA\, 24060\, United States
CATEGORIES:Other
END:VEVENT
END:VCALENDAR